Package: flowStats Version: 4.6.0 Command: /Library/Frameworks/R.framework/Resources/bin/R CMD check --install=check:flowStats.install-out.txt --library=/Library/Frameworks/R.framework/Resources/library --no-vignettes --timings flowStats_4.6.0.tar.gz StartedAt: 2022-04-12 13:24:09 -0400 (Tue, 12 Apr 2022) EndedAt: 2022-04-12 13:29:02 -0400 (Tue, 12 Apr 2022) EllapsedTime: 292.1 seconds RetCode: 0 Status: OK CheckDir: flowStats.Rcheck Warnings: 0