Package: flowStats Version: 4.6.0 Command: rm -rf flowStats.buildbin-libdir && mkdir flowStats.buildbin-libdir && /Users/biocbuild/BBS/utils/build-universal.sh flowStats_4.6.0.tar.gz /Library/Frameworks/R.framework/Resources/bin/R flowStats.buildbin-libdir StartedAt: 2022-04-12 20:44:27 -0400 (Tue, 12 Apr 2022) EndedAt: 2022-04-12 20:45:21 -0400 (Tue, 12 Apr 2022) EllapsedTime: 53.8 seconds RetCode: 0 Status: OK PackageFile: flowStats_4.6.0.tgz PackageFileSize: 11.72 MiB