Package: flowPlots Version: 1.42.0 Command: /Library/Frameworks/R.framework/Resources/bin/R CMD INSTALL flowPlots StartedAt: 2022-04-12 03:13:58 -0400 (Tue, 12 Apr 2022) EndedAt: 2022-04-12 03:14:06 -0400 (Tue, 12 Apr 2022) EllapsedTime: 7.6 seconds RetCode: 0 Status: OK