Package: flowPlots Version: 1.42.0 Command: /Library/Frameworks/R.framework/Resources/bin/R CMD check --install=check:flowPlots.install-out.txt --library=/Library/Frameworks/R.framework/Resources/library --no-vignettes --timings flowPlots_1.42.0.tar.gz StartedAt: 2022-04-12 13:24:00 -0400 (Tue, 12 Apr 2022) EndedAt: 2022-04-12 13:24:49 -0400 (Tue, 12 Apr 2022) EllapsedTime: 49.1 seconds RetCode: 0 Status: OK CheckDir: flowPlots.Rcheck Warnings: 0