Package: flowClust Version: 3.32.0 Command: /home/biocbuild/bbs-3.14-bioc/R/bin/R CMD INSTALL flowClust StartedAt: 2022-04-12 03:24:09 -0400 (Tue, 12 Apr 2022) EndedAt: 2022-04-12 03:25:53 -0400 (Tue, 12 Apr 2022) EllapsedTime: 104.1 seconds RetCode: 0 Status: OK