Package: flowClust Version: 3.32.0 Command: /Library/Frameworks/R.framework/Resources/bin/R CMD INSTALL flowClust StartedAt: 2022-04-12 03:42:57 -0400 (Tue, 12 Apr 2022) EndedAt: 2022-04-12 03:46:14 -0400 (Tue, 12 Apr 2022) EllapsedTime: 197.8 seconds RetCode: 0 Status: OK