Package: flowCHIC Version: 1.28.0 Command: /Library/Frameworks/R.framework/Resources/bin/R CMD build --keep-empty-dirs --no-resave-data flowCHIC StartedAt: 2022-04-12 06:03:34 -0400 (Tue, 12 Apr 2022) EndedAt: 2022-04-12 06:04:33 -0400 (Tue, 12 Apr 2022) EllapsedTime: 58.6 seconds RetCode: 0 Status: OK PackageFile: flowCHIC_1.28.0.tar.gz PackageFileSize: 3.13 MiB