Package: exomeCopy Version: 1.40.0 Command: rm -rf exomeCopy.buildbin-libdir && mkdir exomeCopy.buildbin-libdir && /Users/biocbuild/BBS/utils/build-universal.sh exomeCopy_1.40.0.tar.gz /Library/Frameworks/R.framework/Resources/bin/R exomeCopy.buildbin-libdir StartedAt: 2022-04-12 20:42:01 -0400 (Tue, 12 Apr 2022) EndedAt: 2022-04-12 20:42:28 -0400 (Tue, 12 Apr 2022) EllapsedTime: 27.1 seconds RetCode: 0 Status: OK PackageFile: exomeCopy_1.40.0.tgz PackageFileSize: 714.3 KiB