git_url: https://git.bioconductor.org/packages/doseR git_branch: RELEASE_3_14 git_last_commit: 48979e0 git_last_commit_date: 2021-10-26 12:49:42 -0400 (Tue, 26 Oct 2021) Package: doseR Version: 1.10.0 Maintainer: ake.vastermark MaintainerEmail: ake.vastermark at gmail.com