Package: destiny Version: 3.8.1 Command: /home/biocbuild/bbs-3.14-bioc/R/bin/R CMD build --keep-empty-dirs --no-resave-data destiny StartedAt: 2022-04-12 04:22:16 -0400 (Tue, 12 Apr 2022) EndedAt: 2022-04-12 04:28:26 -0400 (Tue, 12 Apr 2022) EllapsedTime: 370.1 seconds RetCode: 0 Status: OK PackageFile: destiny_3.8.1.tar.gz PackageFileSize: 722.1 KiB