Package: densvis Version: 1.4.0 Command: /Library/Frameworks/R.framework/Resources/bin/R CMD build --keep-empty-dirs --no-resave-data densvis StartedAt: 2022-04-12 05:38:45 -0400 (Tue, 12 Apr 2022) EndedAt: 2022-04-12 05:42:50 -0400 (Tue, 12 Apr 2022) EllapsedTime: 244.8 seconds RetCode: 0 Status: OK PackageFile: densvis_1.4.0.tar.gz PackageFileSize: 1.471 MiB