Package: debrowser Version: 1.22.5 Command: rm -rf debrowser.buildbin-libdir && mkdir debrowser.buildbin-libdir && /Users/biocbuild/BBS/utils/build-universal.sh debrowser_1.22.5.tar.gz /Library/Frameworks/R.framework/Resources/bin/R debrowser.buildbin-libdir StartedAt: 2022-04-12 20:35:00 -0400 (Tue, 12 Apr 2022) EndedAt: 2022-04-12 20:36:23 -0400 (Tue, 12 Apr 2022) EllapsedTime: 83.4 seconds RetCode: 0 Status: OK PackageFile: debrowser_1.22.5.tgz PackageFileSize: 18.63 MiB