Package: cycle Version: 1.48.0 Command: /Library/Frameworks/R.framework/Resources/bin/R CMD INSTALL cycle StartedAt: 2022-04-12 03:19:26 -0400 (Tue, 12 Apr 2022) EndedAt: 2022-04-12 03:19:33 -0400 (Tue, 12 Apr 2022) EllapsedTime: 6.8 seconds RetCode: 0 Status: OK