Package: convert Version: 1.70.0 Command: /Library/Frameworks/R.framework/Resources/bin/R CMD build --keep-empty-dirs --no-resave-data convert StartedAt: 2022-04-12 05:26:58 -0400 (Tue, 12 Apr 2022) EndedAt: 2022-04-12 05:27:10 -0400 (Tue, 12 Apr 2022) EllapsedTime: 12.9 seconds RetCode: 0 Status: OK PackageFile: convert_1.70.0.tar.gz PackageFileSize: 66.69 KiB