Package: clustifyr Version: 1.6.0 Command: chmod a+r clustifyr -R && C:\Users\biocbuild\bbs-3.14-bioc\R\bin\R.exe CMD build --keep-empty-dirs --no-resave-data clustifyr StartedAt: 2022-04-12 09:03:43 -0400 (Tue, 12 Apr 2022) EndedAt: 2022-04-12 09:05:05 -0400 (Tue, 12 Apr 2022) EllapsedTime: 81.8 seconds RetCode: 0 Status: OK PackageFile: clustifyr_1.6.0.tar.gz PackageFileSize: 3.069 MiB