Package: clusterProfiler Version: 4.2.2 Command: /Library/Frameworks/R.framework/Resources/bin/R CMD check --install=check:clusterProfiler.install-out.txt --library=/Library/Frameworks/R.framework/Resources/library --no-vignettes --timings clusterProfiler_4.2.2.tar.gz StartedAt: 2022-04-12 11:41:32 -0400 (Tue, 12 Apr 2022) EndedAt: 2022-04-12 11:47:11 -0400 (Tue, 12 Apr 2022) EllapsedTime: 339.5 seconds RetCode: 0 Status: OK CheckDir: clusterProfiler.Rcheck Warnings: 0