Package: clipper Version: 1.34.0 Command: rm -rf clipper.buildbin-libdir && mkdir clipper.buildbin-libdir && C:\Users\biocbuild\bbs-3.14-bioc\R\bin\R.exe CMD INSTALL --merge-multiarch --build --library=clipper.buildbin-libdir clipper_1.34.0.tar.gz StartedAt: 2022-04-13 05:52:42 -0400 (Wed, 13 Apr 2022) EndedAt: 2022-04-13 05:53:56 -0400 (Wed, 13 Apr 2022) EllapsedTime: 74.0 seconds RetCode: 0 Status: OK PackageFile: clipper_1.34.0.zip PackageFileSize: 710.7 KiB