Package: cfDNAPro Version: 1.0.0 Command: /Library/Frameworks/R.framework/Resources/bin/R CMD INSTALL cfDNAPro StartedAt: 2022-04-12 03:32:39 -0400 (Tue, 12 Apr 2022) EndedAt: 2022-04-12 03:33:14 -0400 (Tue, 12 Apr 2022) EllapsedTime: 35.5 seconds RetCode: 0 Status: OK