Package: cellmigRation Version: 1.2.0 Command: chmod a+r cellmigRation -R && C:\Users\biocbuild\bbs-3.14-bioc\R\bin\R.exe CMD build --keep-empty-dirs --no-resave-data cellmigRation StartedAt: 2022-04-12 08:46:50 -0400 (Tue, 12 Apr 2022) EndedAt: 2022-04-12 08:49:57 -0400 (Tue, 12 Apr 2022) EllapsedTime: 187.2 seconds RetCode: 0 Status: OK PackageFile: cellmigRation_1.2.0.tar.gz PackageFileSize: 919.4 KiB