Package: ccmap Version: 1.20.0 Command: rm -rf ccmap.buildbin-libdir && mkdir ccmap.buildbin-libdir && C:\Users\biocbuild\bbs-3.14-bioc\R\bin\R.exe CMD INSTALL --merge-multiarch --build --library=ccmap.buildbin-libdir ccmap_1.20.0.tar.gz StartedAt: 2022-04-13 05:47:17 -0400 (Wed, 13 Apr 2022) EndedAt: 2022-04-13 05:47:51 -0400 (Wed, 13 Apr 2022) EllapsedTime: 34.7 seconds RetCode: 0 Status: OK PackageFile: ccmap_1.20.0.zip PackageFileSize: 432.3 KiB