Package: ccmap Version: 1.20.0 Command: /Library/Frameworks/R.framework/Resources/bin/R CMD build --keep-empty-dirs --no-resave-data ccmap StartedAt: 2022-04-12 05:06:28 -0400 (Tue, 12 Apr 2022) EndedAt: 2022-04-12 05:09:37 -0400 (Tue, 12 Apr 2022) EllapsedTime: 189.7 seconds RetCode: 0 Status: OK PackageFile: ccmap_1.20.0.tar.gz PackageFileSize: 444.1 KiB