Package: ccmap Version: 1.20.0 Command: rm -rf ccmap.buildbin-libdir && mkdir ccmap.buildbin-libdir && /Users/biocbuild/BBS/utils/build-universal.sh ccmap_1.20.0.tar.gz /Library/Frameworks/R.framework/Resources/bin/R ccmap.buildbin-libdir StartedAt: 2022-04-12 20:26:19 -0400 (Tue, 12 Apr 2022) EndedAt: 2022-04-12 20:26:51 -0400 (Tue, 12 Apr 2022) EllapsedTime: 32.1 seconds RetCode: 0 Status: OK PackageFile: ccmap_1.20.0.tgz PackageFileSize: 417.5 KiB