Package: categoryCompare Version: 1.38.0 Command: rm -rf categoryCompare.buildbin-libdir && mkdir categoryCompare.buildbin-libdir && /Users/biocbuild/BBS/utils/build-universal.sh categoryCompare_1.38.0.tar.gz /Library/Frameworks/R.framework/Resources/bin/R categoryCompare.buildbin-libdir StartedAt: 2022-04-12 20:26:04 -0400 (Tue, 12 Apr 2022) EndedAt: 2022-04-12 20:27:00 -0400 (Tue, 12 Apr 2022) EllapsedTime: 55.8 seconds RetCode: 0 Status: OK PackageFile: categoryCompare_1.38.0.tgz PackageFileSize: 2.588 MiB