Package: biodbLipidmaps Version: 1.0.1 Command: /home/biocbuild/bbs-3.14-bioc/R/bin/R CMD check --install=check:biodbLipidmaps.install-out.txt --library=/home/biocbuild/bbs-3.14-bioc/R/library --no-vignettes --timings biodbLipidmaps_1.0.1.tar.gz StartedAt: 2022-04-12 06:34:39 -0400 (Tue, 12 Apr 2022) EndedAt: 2022-04-12 06:37:33 -0400 (Tue, 12 Apr 2022) EllapsedTime: 173.9 seconds RetCode: 0 Status: OK CheckDir: biodbLipidmaps.Rcheck Warnings: 0