Package: bgx Version: 1.60.0 Command: /Library/Frameworks/R.framework/Resources/bin/R CMD build --keep-empty-dirs --no-resave-data bgx StartedAt: 2022-04-12 04:49:31 -0400 (Tue, 12 Apr 2022) EndedAt: 2022-04-12 04:51:14 -0400 (Tue, 12 Apr 2022) EllapsedTime: 102.9 seconds RetCode: 0 Status: OK PackageFile: bgx_1.60.0.tar.gz PackageFileSize: 1.233 MiB