Package: batchelor Version: 1.10.0 Command: rm -rf batchelor.buildbin-libdir && mkdir batchelor.buildbin-libdir && C:\Users\biocbuild\bbs-3.14-bioc\R\bin\R.exe CMD INSTALL --merge-multiarch --build --library=batchelor.buildbin-libdir batchelor_1.10.0.tar.gz StartedAt: 2022-04-13 05:39:22 -0400 (Wed, 13 Apr 2022) EndedAt: 2022-04-13 05:41:08 -0400 (Wed, 13 Apr 2022) EllapsedTime: 105.9 seconds RetCode: 0 Status: OK PackageFile: batchelor_1.10.0.zip PackageFileSize: 1.869 MiB