Package: arrayQualityMetrics Version: 3.50.0 Command: chmod a+r arrayQualityMetrics -R && C:\Users\biocbuild\bbs-3.14-bioc\R\bin\R.exe CMD build --keep-empty-dirs --no-resave-data arrayQualityMetrics StartedAt: 2022-04-12 07:58:23 -0400 (Tue, 12 Apr 2022) EndedAt: 2022-04-12 08:07:11 -0400 (Tue, 12 Apr 2022) EllapsedTime: 528.8 seconds RetCode: 0 Status: OK PackageFile: arrayQualityMetrics_3.50.0.tar.gz PackageFileSize: 587.6 KiB