Package: altcdfenvs Version: 2.56.0 Command: rm -rf altcdfenvs.buildbin-libdir && mkdir altcdfenvs.buildbin-libdir && C:\Users\biocbuild\bbs-3.14-bioc\R\bin\R.exe CMD INSTALL --merge-multiarch --build --library=altcdfenvs.buildbin-libdir altcdfenvs_2.56.0.tar.gz StartedAt: 2022-04-13 05:35:01 -0400 (Wed, 13 Apr 2022) EndedAt: 2022-04-13 05:36:33 -0400 (Wed, 13 Apr 2022) EllapsedTime: 91.9 seconds RetCode: 0 Status: OK PackageFile: altcdfenvs_2.56.0.zip PackageFileSize: 868.4 KiB