Package: affy Version: 1.72.0 Command: /Library/Frameworks/R.framework/Resources/bin/R CMD INSTALL affy StartedAt: 2022-04-12 03:19:17 -0400 (Tue, 12 Apr 2022) EndedAt: 2022-04-12 03:19:33 -0400 (Tue, 12 Apr 2022) EllapsedTime: 16.4 seconds RetCode: 0 Status: OK