Package: affxparser Version: 1.66.0 Command: C:\cygwin\bin\curl.exe -O http://155.52.207.166/BBS/3.14/bioc/src/contrib/affxparser_1.66.0.tar.gz && rm -rf affxparser.buildbin-libdir && mkdir affxparser.buildbin-libdir && C:\Users\biocbuild\bbs-3.14-bioc\R\bin\R.exe CMD INSTALL --merge-multiarch --build --library=affxparser.buildbin-libdir affxparser_1.66.0.tar.gz && C:\Users\biocbuild\bbs-3.14-bioc\R\bin\R.exe CMD INSTALL affxparser_1.66.0.zip && rm affxparser_1.66.0.tar.gz affxparser_1.66.0.zip StartedAt: 2022-04-12 04:10:03 -0400 (Tue, 12 Apr 2022) EndedAt: 2022-04-12 04:21:11 -0400 (Tue, 12 Apr 2022) EllapsedTime: 667.7 seconds RetCode: 0 Status: OK