Package: abseqR Version: 1.12.0 Command: /home/biocbuild/bbs-3.14-bioc/R/bin/R CMD build --keep-empty-dirs --no-resave-data abseqR StartedAt: 2022-04-12 03:50:57 -0400 (Tue, 12 Apr 2022) EndedAt: 2022-04-12 03:52:38 -0400 (Tue, 12 Apr 2022) EllapsedTime: 101.4 seconds RetCode: 0 Status: OK PackageFile: abseqR_1.12.0.tar.gz PackageFileSize: 2.616 MiB