Package: aCGH Version: 1.72.0 Command: /home/biocbuild/bbs-3.14-bioc/R/bin/R CMD INSTALL aCGH StartedAt: 2022-04-12 03:14:52 -0400 (Tue, 12 Apr 2022) EndedAt: 2022-04-12 03:15:04 -0400 (Tue, 12 Apr 2022) EllapsedTime: 11.8 seconds RetCode: 0 Status: OK