Package: a4Base Version: 1.42.0 Command: chmod a+r a4Base -R && C:\Users\biocbuild\bbs-3.14-bioc\R\bin\R.exe CMD build --keep-empty-dirs --no-resave-data a4Base StartedAt: 2022-04-12 07:44:08 -0400 (Tue, 12 Apr 2022) EndedAt: 2022-04-12 07:44:33 -0400 (Tue, 12 Apr 2022) EllapsedTime: 25.1 seconds RetCode: 0 Status: OK PackageFile: a4Base_1.42.0.tar.gz PackageFileSize: 366.5 KiB