Package: ViSEAGO Version: 1.8.0 Command: /Library/Frameworks/R.framework/Resources/bin/R CMD INSTALL ViSEAGO StartedAt: 2022-04-12 03:54:40 -0400 (Tue, 12 Apr 2022) EndedAt: 2022-04-12 03:55:33 -0400 (Tue, 12 Apr 2022) EllapsedTime: 53.3 seconds RetCode: 0 Status: OK