Package: VennDetail Version: 1.10.0 Command: /Library/Frameworks/R.framework/Resources/bin/R CMD INSTALL VennDetail StartedAt: 2022-04-12 03:28:15 -0400 (Tue, 12 Apr 2022) EndedAt: 2022-04-12 03:28:25 -0400 (Tue, 12 Apr 2022) EllapsedTime: 10.0 seconds RetCode: 0 Status: OK