Package: VariantTools Version: 1.36.0 Command: /home/biocbuild/bbs-3.14-bioc/R/bin/R CMD check --install=check:VariantTools.install-out.txt --library=/home/biocbuild/bbs-3.14-bioc/R/library --no-vignettes --timings VariantTools_1.36.0.tar.gz StartedAt: 2022-04-12 09:49:13 -0400 (Tue, 12 Apr 2022) EndedAt: 2022-04-12 09:54:26 -0400 (Tue, 12 Apr 2022) EllapsedTime: 312.6 seconds RetCode: 0 Status: WARNINGS CheckDir: VariantTools.Rcheck Warnings: 2