Package: VarCon Version: 1.2.0 Command: /Library/Frameworks/R.framework/Resources/bin/R CMD INSTALL VarCon StartedAt: 2022-04-12 04:03:27 -0400 (Tue, 12 Apr 2022) EndedAt: 2022-04-12 04:04:26 -0400 (Tue, 12 Apr 2022) EllapsedTime: 58.9 seconds RetCode: 0 Status: OK