Package: VarCon Version: 1.2.0 Command: rm -rf VarCon.buildbin-libdir && mkdir VarCon.buildbin-libdir && /Users/biocbuild/BBS/utils/build-universal.sh VarCon_1.2.0.tar.gz /Library/Frameworks/R.framework/Resources/bin/R VarCon.buildbin-libdir StartedAt: 2022-04-12 21:39:27 -0400 (Tue, 12 Apr 2022) EndedAt: 2022-04-12 21:40:33 -0400 (Tue, 12 Apr 2022) EllapsedTime: 66.9 seconds RetCode: 0 Status: OK PackageFile: VarCon_1.2.0.tgz PackageFileSize: 2.015 MiB