Package: VaSP Version: 1.6.0 Command: rm -rf VaSP.buildbin-libdir && mkdir VaSP.buildbin-libdir && /Users/biocbuild/BBS/utils/build-universal.sh VaSP_1.6.0.tar.gz /Library/Frameworks/R.framework/Resources/bin/R VaSP.buildbin-libdir StartedAt: 2022-04-12 21:39:34 -0400 (Tue, 12 Apr 2022) EndedAt: 2022-04-12 21:40:40 -0400 (Tue, 12 Apr 2022) EllapsedTime: 66.2 seconds RetCode: 0 Status: OK PackageFile: VaSP_1.6.0.tgz PackageFileSize: 6.013 MiB