Package: UniProt.ws Version: 2.34.0 Command: /Library/Frameworks/R.framework/Resources/bin/R CMD build --keep-empty-dirs --no-resave-data UniProt.ws StartedAt: 2022-04-12 09:33:44 -0400 (Tue, 12 Apr 2022) EndedAt: 2022-04-12 09:35:21 -0400 (Tue, 12 Apr 2022) EllapsedTime: 97.2 seconds RetCode: 0 Status: OK PackageFile: UniProt.ws_2.34.0.tar.gz PackageFileSize: 794.3 KiB