Package: UniProt.ws Version: 2.34.0 Command: rm -rf UniProt.ws.buildbin-libdir && mkdir UniProt.ws.buildbin-libdir && /Users/biocbuild/BBS/utils/build-universal.sh UniProt.ws_2.34.0.tar.gz /Library/Frameworks/R.framework/Resources/bin/R UniProt.ws.buildbin-libdir StartedAt: 2022-04-12 21:39:11 -0400 (Tue, 12 Apr 2022) EndedAt: 2022-04-12 21:39:43 -0400 (Tue, 12 Apr 2022) EllapsedTime: 32.3 seconds RetCode: 0 Status: OK PackageFile: UniProt.ws_2.34.0.tgz PackageFileSize: 1.055 MiB