Package: UMI4Cats Version: 1.4.0 Command: /home/biocbuild/bbs-3.14-bioc/R/bin/R CMD build --keep-empty-dirs --no-resave-data UMI4Cats StartedAt: 2022-04-12 06:10:03 -0400 (Tue, 12 Apr 2022) EndedAt: 2022-04-12 06:11:43 -0400 (Tue, 12 Apr 2022) EllapsedTime: 100.0 seconds RetCode: 0 Status: OK PackageFile: UMI4Cats_1.4.0.tar.gz PackageFileSize: 3.657 MiB