Package: TrajectoryUtils Version: 1.2.0 Command: /Library/Frameworks/R.framework/Resources/bin/R CMD build --keep-empty-dirs --no-resave-data TrajectoryUtils StartedAt: 2022-04-12 09:27:15 -0400 (Tue, 12 Apr 2022) EndedAt: 2022-04-12 09:28:06 -0400 (Tue, 12 Apr 2022) EllapsedTime: 51.3 seconds RetCode: 0 Status: OK PackageFile: TrajectoryUtils_1.2.0.tar.gz PackageFileSize: 320.8 KiB