############################################################################## ############################################################################## ### ### Running command: ### ### C:\cygwin\bin\curl.exe -O http://155.52.207.166/BBS/3.14/bioc/src/contrib/TRESS_1.0.0.tar.gz && rm -rf TRESS.buildbin-libdir && mkdir TRESS.buildbin-libdir && C:\Users\biocbuild\bbs-3.14-bioc\R\bin\R.exe CMD INSTALL --merge-multiarch --build --library=TRESS.buildbin-libdir TRESS_1.0.0.tar.gz && C:\Users\biocbuild\bbs-3.14-bioc\R\bin\R.exe CMD INSTALL TRESS_1.0.0.zip && rm TRESS_1.0.0.tar.gz TRESS_1.0.0.zip ### ############################################################################## ############################################################################## % Total % Received % Xferd Average Speed Time Time Time Current Dload Upload Total Spent Left Speed 0 0 0 0 0 0 0 0 --:--:-- --:--:-- --:--:-- 0 93 509k 93 475k 0 0 905k 0 --:--:-- --:--:-- --:--:-- 906k 100 509k 100 509k 0 0 966k 0 --:--:-- --:--:-- --:--:-- 966k install for i386 * installing *source* package 'TRESS' ... ** using staged installation ** R ** data ** inst ** byte-compile and prepare package for lazy loading ** help *** installing help indices converting help for package 'TRESS' finding HTML links ... done Basal html CallCandidates html CallPeaks.multiRep html CallPeaks.oneRep html CallPeaks.paramEsti html DivideBins html EstiMu html EstiPhi html ShowOnePeak html TRESS_peak html findBumps html ** building package indices ** installing vignettes ** testing if installed package can be loaded from temporary location ** testing if installed package can be loaded from final location ** testing if installed package keeps a record of temporary installation path install for x64 * installing *source* package 'TRESS' ... ** testing if installed package can be loaded * MD5 sums packaged installation of 'TRESS' as TRESS_1.0.0.zip * DONE (TRESS) * installing to library 'C:/Users/biocbuild/bbs-3.14-bioc/R/library' package 'TRESS' successfully unpacked and MD5 sums checked