Package: TPP Version: 3.22.1 Command: C:\cygwin\bin\curl.exe -O http://155.52.207.166/BBS/3.14/bioc/src/contrib/TPP_3.22.1.tar.gz && rm -rf TPP.buildbin-libdir && mkdir TPP.buildbin-libdir && C:\Users\biocbuild\bbs-3.14-bioc\R\bin\R.exe CMD INSTALL --merge-multiarch --build --library=TPP.buildbin-libdir TPP_3.22.1.tar.gz && C:\Users\biocbuild\bbs-3.14-bioc\R\bin\R.exe CMD INSTALL TPP_3.22.1.zip && rm TPP_3.22.1.tar.gz TPP_3.22.1.zip StartedAt: 2022-04-12 06:12:03 -0400 (Tue, 12 Apr 2022) EndedAt: 2022-04-12 06:14:11 -0400 (Tue, 12 Apr 2022) EllapsedTime: 128.2 seconds RetCode: 0 Status: OK