Package: TPP Version: 3.22.1 Command: rm -rf TPP.buildbin-libdir && mkdir TPP.buildbin-libdir && C:\Users\biocbuild\bbs-3.14-bioc\R\bin\R.exe CMD INSTALL --merge-multiarch --build --library=TPP.buildbin-libdir TPP_3.22.1.tar.gz StartedAt: 2022-04-13 07:16:31 -0400 (Wed, 13 Apr 2022) EndedAt: 2022-04-13 07:17:07 -0400 (Wed, 13 Apr 2022) EllapsedTime: 36.0 seconds RetCode: 0 Status: OK PackageFile: TPP_3.22.1.zip PackageFileSize: 8.912 MiB