Package: SwathXtend Version: 2.16.0 Command: /Library/Frameworks/R.framework/Resources/bin/R CMD build --keep-empty-dirs --no-resave-data SwathXtend StartedAt: 2022-04-12 09:18:14 -0400 (Tue, 12 Apr 2022) EndedAt: 2022-04-12 09:24:49 -0400 (Tue, 12 Apr 2022) EllapsedTime: 395.6 seconds RetCode: 0 Status: OK PackageFile: SwathXtend_2.16.0.tar.gz PackageFileSize: 346.3 MiB