Package: SpacePAC Version: 1.32.0 Command: /home/biocbuild/bbs-3.14-bioc/R/bin/R CMD check --install=check:SpacePAC.install-out.txt --library=/home/biocbuild/bbs-3.14-bioc/R/library --no-vignettes --timings SpacePAC_1.32.0.tar.gz StartedAt: 2022-04-12 09:28:00 -0400 (Tue, 12 Apr 2022) EndedAt: 2022-04-12 09:29:59 -0400 (Tue, 12 Apr 2022) EllapsedTime: 119.2 seconds RetCode: 0 Status: OK CheckDir: SpacePAC.Rcheck Warnings: 0