Package: SingleR Version: 1.8.1 Command: /Library/Frameworks/R.framework/Resources/bin/R CMD build --keep-empty-dirs --no-resave-data SingleR StartedAt: 2022-04-12 09:00:50 -0400 (Tue, 12 Apr 2022) EndedAt: 2022-04-12 09:05:42 -0400 (Tue, 12 Apr 2022) EllapsedTime: 292.7 seconds RetCode: 0 Status: OK PackageFile: SingleR_1.8.1.tar.gz PackageFileSize: 602.4 KiB