Package: SharedObject Version: 1.8.0 Command: /Library/Frameworks/R.framework/Resources/bin/R CMD build --keep-empty-dirs --no-resave-data SharedObject StartedAt: 2022-04-12 08:56:04 -0400 (Tue, 12 Apr 2022) EndedAt: 2022-04-12 08:58:08 -0400 (Tue, 12 Apr 2022) EllapsedTime: 123.1 seconds RetCode: 0 Status: OK PackageFile: SharedObject_1.8.0.tar.gz PackageFileSize: 1.903 MiB